BEGIN:VCALENDAR
VERSION:2.0
PRODID:icalendar-ruby
CALSCALE:GREGORIAN
METHOD:PUBLISH
BEGIN:VEVENT
DTSTAMP:20260420T102735Z
UID:5-859252@zionmillcreek.com
DTSTART:20260923T220000Z
DTEND:20260923T223000Z
CLASS:PUBLIC
CREATED:20260420T014314
DESCRIPTION:Join Us For Our Weekly Prayer Call As Pray With and For Each Ot
 her. Dial 1-712-832-8330 Access Code 642-4728#
LAST-MODIFIED:20260420T014314
LOCATION:
SUMMARY:Weekly Prayer Call
URL;VALUE=URI:https://www.zionmillcreek.com/events/weekly-prayer-call/2026-
 09-23
ATTACH;FILENAME=Prayer Call.jpg;FMTTYPE=image/jpeg:https://dq5pwpg1q8ru0.cl
 oudfront.net/2020/09/13/13/39/14/b848eb0e-6176-47a0-ba1c-1e624eb1aa3e/Pray
 er%20Call.jpg
END:VEVENT
END:VCALENDAR
